BEGIN:VCALENDAR
VERSION:2.0
PRODID:-//The Plutus Foundation - ECPv6.15.17.1//NONSGML v1.0//EN
CALSCALE:GREGORIAN
METHOD:PUBLISH
X-ORIGINAL-URL:https://plutusfoundation.org
X-WR-CALDESC:Events for The Plutus Foundation
REFRESH-INTERVAL;VALUE=DURATION:PT1H
X-Robots-Tag:noindex
X-PUBLISHED-TTL:PT1H
BEGIN:VTIMEZONE
TZID:America/New_York
BEGIN:DAYLIGHT
TZOFFSETFROM:-0500
TZOFFSETTO:-0400
TZNAME:EDT
DTSTART:20180311T070000
END:DAYLIGHT
BEGIN:STANDARD
TZOFFSETFROM:-0400
TZOFFSETTO:-0500
TZNAME:EST
DTSTART:20181104T060000
END:STANDARD
BEGIN:DAYLIGHT
TZOFFSETFROM:-0500
TZOFFSETTO:-0400
TZNAME:EDT
DTSTART:20190310T070000
END:DAYLIGHT
BEGIN:STANDARD
TZOFFSETFROM:-0400
TZOFFSETTO:-0500
TZNAME:EST
DTSTART:20191103T060000
END:STANDARD
BEGIN:DAYLIGHT
TZOFFSETFROM:-0500
TZOFFSETTO:-0400
TZNAME:EDT
DTSTART:20200308T070000
END:DAYLIGHT
BEGIN:STANDARD
TZOFFSETFROM:-0400
TZOFFSETTO:-0500
TZNAME:EST
DTSTART:20201101T060000
END:STANDARD
END:VTIMEZONE
BEGIN:VEVENT
DTSTART;VALUE=DATE:20190524
DTEND;VALUE=DATE:20190526
DTSTAMP:20260422T114821
CREATED:20190403T041550Z
LAST-MODIFIED:20190403T041550Z
UID:4951-1558656000-1558828799@plutusfoundation.org
SUMMARY:Elevate Influencer 2019
DESCRIPTION:
URL:https://plutusfoundation.org/event/elevate-influencer-2019/
LOCATION:New York City\, NY\, New York\, NY\, United States
CATEGORIES:Partner Events
ATTACH;FMTTYPE=image/jpeg:https://plutusfoundation.org/wp-content/uploads/2019/04/elevatedark1.jpg
END:VEVENT
BEGIN:VEVENT
DTSTART;VALUE=DATE:20190524
DTEND;VALUE=DATE:20190528
DTSTAMP:20260422T114821
CREATED:20190105T035346Z
LAST-MODIFIED:20190105T035346Z
UID:2515-1558656000-1559001599@plutusfoundation.org
SUMMARY:CampFI: Mid-Atlantic
DESCRIPTION:
URL:https://plutusfoundation.org/event/campfi-mid-atlantic/
LOCATION:Spring Grove\, VA\, Spring Grove\, VA\, United States
CATEGORIES:Community Events
ATTACH;FMTTYPE=image/png:https://plutusfoundation.org/wp-content/uploads/2019/01/https___cdn.evbuc_.com_images_44174528_214399951088_1_original1.png
END:VEVENT
END:VCALENDAR