BEGIN:VCALENDAR
VERSION:2.0
PRODID:-//The Plutus Foundation - ECPv6.15.17.1//NONSGML v1.0//EN
CALSCALE:GREGORIAN
METHOD:PUBLISH
X-WR-CALNAME:The Plutus Foundation
X-ORIGINAL-URL:https://plutusfoundation.org
X-WR-CALDESC:Events for The Plutus Foundation
REFRESH-INTERVAL;VALUE=DURATION:PT1H
X-Robots-Tag:noindex
X-PUBLISHED-TTL:PT1H
BEGIN:VTIMEZONE
TZID:America/New_York
BEGIN:DAYLIGHT
TZOFFSETFROM:-0500
TZOFFSETTO:-0400
TZNAME:EDT
DTSTART:20180311T070000
END:DAYLIGHT
BEGIN:STANDARD
TZOFFSETFROM:-0400
TZOFFSETTO:-0500
TZNAME:EST
DTSTART:20181104T060000
END:STANDARD
BEGIN:DAYLIGHT
TZOFFSETFROM:-0500
TZOFFSETTO:-0400
TZNAME:EDT
DTSTART:20190310T070000
END:DAYLIGHT
BEGIN:STANDARD
TZOFFSETFROM:-0400
TZOFFSETTO:-0500
TZNAME:EST
DTSTART:20191103T060000
END:STANDARD
BEGIN:DAYLIGHT
TZOFFSETFROM:-0500
TZOFFSETTO:-0400
TZNAME:EDT
DTSTART:20200308T070000
END:DAYLIGHT
BEGIN:STANDARD
TZOFFSETFROM:-0400
TZOFFSETTO:-0500
TZNAME:EST
DTSTART:20201101T060000
END:STANDARD
END:VTIMEZONE
BEGIN:VEVENT
DTSTART;TZID=America/New_York:20190904T180000
DTEND;TZID=America/New_York:20190907T180000
DTSTAMP:20260422T002258
CREATED:20190104T202859Z
LAST-MODIFIED:20190104T203150Z
UID:2493-1567620000-1567879200@plutusfoundation.org
SUMMARY:#FinCon 2019
DESCRIPTION:
URL:https://plutusfoundation.org/event/fincon-2019/
LOCATION:Washington Hilton\, 1919 Connecticut Ave. NW\, Washington\, DC\, United States
CATEGORIES:Partner Events
ATTACH;FMTTYPE=image/jpeg:https://plutusfoundation.org/wp-content/uploads/2019/01/fincon.jpg
ORGANIZER;CN="FinCon":MAILTO:pt@finconexpo.com
END:VEVENT
END:VCALENDAR