BEGIN:VCALENDAR
VERSION:2.0
PRODID:-//The Plutus Foundation - ECPv6.15.17.1//NONSGML v1.0//EN
CALSCALE:GREGORIAN
METHOD:PUBLISH
X-ORIGINAL-URL:https://plutusfoundation.org
X-WR-CALDESC:Events for The Plutus Foundation
REFRESH-INTERVAL;VALUE=DURATION:PT1H
X-Robots-Tag:noindex
X-PUBLISHED-TTL:PT1H
BEGIN:VTIMEZONE
TZID:America/New_York
BEGIN:DAYLIGHT
TZOFFSETFROM:-0500
TZOFFSETTO:-0400
TZNAME:EDT
DTSTART:20200308T070000
END:DAYLIGHT
BEGIN:STANDARD
TZOFFSETFROM:-0400
TZOFFSETTO:-0500
TZNAME:EST
DTSTART:20201101T060000
END:STANDARD
BEGIN:DAYLIGHT
TZOFFSETFROM:-0500
TZOFFSETTO:-0400
TZNAME:EDT
DTSTART:20210314T070000
END:DAYLIGHT
BEGIN:STANDARD
TZOFFSETFROM:-0400
TZOFFSETTO:-0500
TZNAME:EST
DTSTART:20211107T060000
END:STANDARD
BEGIN:DAYLIGHT
TZOFFSETFROM:-0500
TZOFFSETTO:-0400
TZNAME:EDT
DTSTART:20220313T070000
END:DAYLIGHT
BEGIN:STANDARD
TZOFFSETFROM:-0400
TZOFFSETTO:-0500
TZNAME:EST
DTSTART:20221106T060000
END:STANDARD
END:VTIMEZONE
BEGIN:VEVENT
DTSTART;TZID=America/New_York:20210325T203000
DTEND;TZID=America/New_York:20210325T213000
DTSTAMP:20260420T222409
CREATED:20210322T172014Z
LAST-MODIFIED:20210322T172014Z
UID:11061-1616704200-1616707800@plutusfoundation.org
SUMMARY:Plutus Foundation Live: Building a Successful Business Through Establishing Your Voice
DESCRIPTION:Want to grow your business? Establish your voice in the personal finance space? Join Harlan Landes for a free live event with Kara Perez\, founder of Bravely Go and the Feminist Financial Summit and co-host of The Fairer Cents on Thursday\, March 25\, 2021\, at 8:30 PM ET on YouTube and Facebook. Kara will answer questions from the attendees too so please bring YOUR questions. \nKara Perez founded Bravely Go in January 2017. Broke\, underemployed\, and student debt-ladened\, she realized that her lack of financial education was a detriment. Kara decided to start Bravely GO as a resource for folks who do not fit the financial mainstream and to help them change their money situation and mindset. \nHer personal money journey includes the following highlights and milestone. \n\nIn 2013\, Kara earned $16\,183.51.\nIn 2014\, Kara earned $18\,423.\nIn 2015\, Kara earned $32\,249.63.\n\n(All before tax.) \nKara paid off $25\,302 in loans on a salary of less than $30\,000\, the final $18\,000 in just ten months. She became debt free in June 2015. \nCohost of The Fairer Cents podcast and founder of the Financial Feminist Summit\, Kara speaks at events across the US\, including FinCon and the Lola Retreat. Bravely was nominated for Plutus Awards in 2017 and 2018. You can find Bravely on Forbes\, Glamour Magazine\, US News and World Report\, Austin CultureMap\, Austin Woman Magazine\, and Lifehacker.  \nThe discussion will be live on Facebook on Wednesday\, February 24\, at 8:30pm ET. You may also watch live on YouTube. \n\nhttps://www.facebook.com/plutusfoundation/videos/233327895180043\nhttps://youtu.be/3OqRtadAiMg
URL:https://plutusfoundation.org/event/building-a-successful-business/
LOCATION:Virtual Event\, DC
CATEGORIES:Plutus Foundation Live
ATTACH;FMTTYPE=image/jpeg:https://plutusfoundation.org/wp-content/uploads/2021/03/kara-perez-interview.jpg
ORGANIZER;CN="The Plutus Foundation":MAILTO:info@plutusfoundation.org
END:VEVENT
END:VCALENDAR