BEGIN:VCALENDAR
VERSION:2.0
PRODID:-//The Plutus Foundation - ECPv6.15.17.1//NONSGML v1.0//EN
CALSCALE:GREGORIAN
METHOD:PUBLISH
X-ORIGINAL-URL:https://plutusfoundation.org
X-WR-CALDESC:Events for The Plutus Foundation
REFRESH-INTERVAL;VALUE=DURATION:PT1H
X-Robots-Tag:noindex
X-PUBLISHED-TTL:PT1H
BEGIN:VTIMEZONE
TZID:America/New_York
BEGIN:DAYLIGHT
TZOFFSETFROM:-0500
TZOFFSETTO:-0400
TZNAME:EDT
DTSTART:20210314T070000
END:DAYLIGHT
BEGIN:STANDARD
TZOFFSETFROM:-0400
TZOFFSETTO:-0500
TZNAME:EST
DTSTART:20211107T060000
END:STANDARD
BEGIN:DAYLIGHT
TZOFFSETFROM:-0500
TZOFFSETTO:-0400
TZNAME:EDT
DTSTART:20220313T070000
END:DAYLIGHT
BEGIN:STANDARD
TZOFFSETFROM:-0400
TZOFFSETTO:-0500
TZNAME:EST
DTSTART:20221106T060000
END:STANDARD
BEGIN:DAYLIGHT
TZOFFSETFROM:-0500
TZOFFSETTO:-0400
TZNAME:EDT
DTSTART:20230312T070000
END:DAYLIGHT
BEGIN:STANDARD
TZOFFSETFROM:-0400
TZOFFSETTO:-0500
TZNAME:EST
DTSTART:20231105T060000
END:STANDARD
END:VTIMEZONE
BEGIN:VEVENT
DTSTART;TZID=America/New_York:20220722T130000
DTEND;TZID=America/New_York:20220722T170000
DTSTAMP:20260419T192120
CREATED:20220504T203319Z
LAST-MODIFIED:20220504T203319Z
UID:14116-1658494800-1658509200@plutusfoundation.org
SUMMARY:Plutus Impact Summit: Day 1
DESCRIPTION:The Plutus Impact Summit is an event for financial authors\, podcasters\, bloggers\, speakers\, teachers\, and influencers to network and learn about having a bigger impact on the financial lives of our audiences. \nMore information at https://plutusimpact.com/
URL:https://plutusfoundation.org/event/plutus-impact-summit-day-1-2022/
LOCATION:Virtual Event\, DC
CATEGORIES:Plutus Impact Summit
ATTACH;FMTTYPE=image/png:https://plutusfoundation.org/wp-content/uploads/2022/05/Summit-Header-for-Facebook.png
ORGANIZER;CN="The Plutus Foundation":MAILTO:info@plutusfoundation.org
END:VEVENT
END:VCALENDAR