BEGIN:VCALENDAR
VERSION:2.0
PRODID:-//The Plutus Foundation - ECPv6.15.17.1//NONSGML v1.0//EN
CALSCALE:GREGORIAN
METHOD:PUBLISH
X-WR-CALNAME:The Plutus Foundation
X-ORIGINAL-URL:https://plutusfoundation.org
X-WR-CALDESC:Events for The Plutus Foundation
REFRESH-INTERVAL;VALUE=DURATION:PT1H
X-Robots-Tag:noindex
X-PUBLISHED-TTL:PT1H
BEGIN:VTIMEZONE
TZID:America/New_York
BEGIN:DAYLIGHT
TZOFFSETFROM:-0500
TZOFFSETTO:-0400
TZNAME:EDT
DTSTART:20180311T070000
END:DAYLIGHT
BEGIN:STANDARD
TZOFFSETFROM:-0400
TZOFFSETTO:-0500
TZNAME:EST
DTSTART:20181104T060000
END:STANDARD
BEGIN:DAYLIGHT
TZOFFSETFROM:-0500
TZOFFSETTO:-0400
TZNAME:EDT
DTSTART:20190310T070000
END:DAYLIGHT
BEGIN:STANDARD
TZOFFSETFROM:-0400
TZOFFSETTO:-0500
TZNAME:EST
DTSTART:20191103T060000
END:STANDARD
BEGIN:DAYLIGHT
TZOFFSETFROM:-0500
TZOFFSETTO:-0400
TZNAME:EDT
DTSTART:20200308T070000
END:DAYLIGHT
BEGIN:STANDARD
TZOFFSETFROM:-0400
TZOFFSETTO:-0500
TZNAME:EST
DTSTART:20201101T060000
END:STANDARD
BEGIN:DAYLIGHT
TZOFFSETFROM:-0500
TZOFFSETTO:-0400
TZNAME:EDT
DTSTART:20210314T070000
END:DAYLIGHT
BEGIN:STANDARD
TZOFFSETFROM:-0400
TZOFFSETTO:-0500
TZNAME:EST
DTSTART:20211107T060000
END:STANDARD
BEGIN:DAYLIGHT
TZOFFSETFROM:-0500
TZOFFSETTO:-0400
TZNAME:EDT
DTSTART:20220313T070000
END:DAYLIGHT
BEGIN:STANDARD
TZOFFSETFROM:-0400
TZOFFSETTO:-0500
TZNAME:EST
DTSTART:20221106T060000
END:STANDARD
BEGIN:DAYLIGHT
TZOFFSETFROM:-0500
TZOFFSETTO:-0400
TZNAME:EDT
DTSTART:20230312T070000
END:DAYLIGHT
BEGIN:STANDARD
TZOFFSETFROM:-0400
TZOFFSETTO:-0500
TZNAME:EST
DTSTART:20231105T060000
END:STANDARD
END:VTIMEZONE
BEGIN:VEVENT
DTSTART;TZID=America/New_York:20220909T181500
DTEND;TZID=America/New_York:20220909T200000
DTSTAMP:20260420T081658
CREATED:20220404T203105Z
LAST-MODIFIED:20220404T203237Z
UID:13848-1662747300-1662753600@plutusfoundation.org
SUMMARY:The 13th Annual Plutus Awards Presented by Capital Group
DESCRIPTION:
URL:https://plutusfoundation.org/event/13th-plutus-awards/
LOCATION:Orlando\, FL\, Orlando\, FL\, United States
CATEGORIES:The Plutus Awards
ATTACH;FMTTYPE=image/jpeg:https://plutusfoundation.org/wp-content/uploads/2020/07/Green-Carpet-084-e1605208921806.jpg
ORGANIZER;CN="The Plutus Foundation":MAILTO:info@plutusfoundation.org
END:VEVENT
BEGIN:VEVENT
DTSTART;TZID=America/New_York:20210923T181500
DTEND;TZID=America/New_York:20210923T200000
DTSTAMP:20260420T081659
CREATED:20210723T170028Z
LAST-MODIFIED:20210723T021146Z
UID:12353-1632420900-1632427200@plutusfoundation.org
SUMMARY:The 12th Annual Plutus Awards
DESCRIPTION:
URL:https://plutusfoundation.org/event/12th-annual-awards/
LOCATION:Austin Convention Center\, 500 E Cesar Chavez St.\, Austin\, TX\, 78701\, United States
CATEGORIES:The Plutus Awards
ATTACH;FMTTYPE=image/jpeg:https://plutusfoundation.org/wp-content/uploads/2020/07/Green-Carpet-084-e1605208921806.jpg
ORGANIZER;CN="The Plutus Foundation":MAILTO:info@plutusfoundation.org
END:VEVENT
BEGIN:VEVENT
DTSTART;TZID=America/New_York:20201113T181500
DTEND;TZID=America/New_York:20201113T200000
DTSTAMP:20260420T081659
CREATED:20200730T181207Z
LAST-MODIFIED:20201112T192225Z
UID:8169-1605291300-1605297600@plutusfoundation.org
SUMMARY:The 11th Annual Plutus Awards Presented by Capital Group
DESCRIPTION:
URL:https://plutusfoundation.org/event/plutus-awards-capital-group/
LOCATION:Virtual Event\, DC
CATEGORIES:The Plutus Awards
ATTACH;FMTTYPE=image/jpeg:https://plutusfoundation.org/wp-content/uploads/2020/07/Green-Carpet-084-e1605208921806.jpg
ORGANIZER;CN="The Plutus Foundation":MAILTO:info@plutusfoundation.org
END:VEVENT
BEGIN:VEVENT
DTSTART;TZID=America/New_York:20190906T200000
DTEND;TZID=America/New_York:20190906T210000
DTSTAMP:20260420T081659
CREATED:20190715T223039Z
LAST-MODIFIED:20190715T223710Z
UID:5467-1567800000-1567803600@plutusfoundation.org
SUMMARY:The 10th Annual Plutus Awards Presented by Capital Group
DESCRIPTION:
URL:https://plutusfoundation.org/event/the-10th-annual-plutus-awards-presented-by-capital-group/
LOCATION:Washington Hilton\, 1919 Connecticut Ave. NW\, Washington\, DC\, United States
CATEGORIES:The Plutus Awards
ATTACH;FMTTYPE=image/jpeg:https://plutusfoundation.org/wp-content/uploads/2019/07/plutus-awards-10-banner-beige-bg-shadow.jpg
ORGANIZER;CN="The Plutus Foundation":MAILTO:info@plutusfoundation.org
END:VEVENT
END:VCALENDAR