BEGIN:VCALENDAR
VERSION:2.0
PRODID:-//The Plutus Foundation - ECPv6.15.17.1//NONSGML v1.0//EN
CALSCALE:GREGORIAN
METHOD:PUBLISH
X-ORIGINAL-URL:https://plutusfoundation.org
X-WR-CALDESC:Events for The Plutus Foundation
REFRESH-INTERVAL;VALUE=DURATION:PT1H
X-Robots-Tag:noindex
X-PUBLISHED-TTL:PT1H
BEGIN:VTIMEZONE
TZID:America/Los_Angeles
BEGIN:DAYLIGHT
TZOFFSETFROM:-0800
TZOFFSETTO:-0700
TZNAME:PDT
DTSTART:20210314T100000
END:DAYLIGHT
BEGIN:STANDARD
TZOFFSETFROM:-0700
TZOFFSETTO:-0800
TZNAME:PST
DTSTART:20211107T090000
END:STANDARD
BEGIN:DAYLIGHT
TZOFFSETFROM:-0800
TZOFFSETTO:-0700
TZNAME:PDT
DTSTART:20220313T100000
END:DAYLIGHT
BEGIN:STANDARD
TZOFFSETFROM:-0700
TZOFFSETTO:-0800
TZNAME:PST
DTSTART:20221106T090000
END:STANDARD
BEGIN:DAYLIGHT
TZOFFSETFROM:-0800
TZOFFSETTO:-0700
TZNAME:PDT
DTSTART:20230312T100000
END:DAYLIGHT
BEGIN:STANDARD
TZOFFSETFROM:-0700
TZOFFSETTO:-0800
TZNAME:PST
DTSTART:20231105T090000
END:STANDARD
END:VTIMEZONE
BEGIN:VTIMEZONE
TZID:America/New_York
BEGIN:DAYLIGHT
TZOFFSETFROM:-0500
TZOFFSETTO:-0400
TZNAME:EDT
DTSTART:20210314T070000
END:DAYLIGHT
BEGIN:STANDARD
TZOFFSETFROM:-0400
TZOFFSETTO:-0500
TZNAME:EST
DTSTART:20211107T060000
END:STANDARD
BEGIN:DAYLIGHT
TZOFFSETFROM:-0500
TZOFFSETTO:-0400
TZNAME:EDT
DTSTART:20220313T070000
END:DAYLIGHT
BEGIN:STANDARD
TZOFFSETFROM:-0400
TZOFFSETTO:-0500
TZNAME:EST
DTSTART:20221106T060000
END:STANDARD
BEGIN:DAYLIGHT
TZOFFSETFROM:-0500
TZOFFSETTO:-0400
TZNAME:EDT
DTSTART:20230312T070000
END:DAYLIGHT
BEGIN:STANDARD
TZOFFSETFROM:-0400
TZOFFSETTO:-0500
TZNAME:EST
DTSTART:20231105T060000
END:STANDARD
BEGIN:DAYLIGHT
TZOFFSETFROM:-0500
TZOFFSETTO:-0400
TZNAME:EDT
DTSTART:20240310T070000
END:DAYLIGHT
BEGIN:STANDARD
TZOFFSETFROM:-0400
TZOFFSETTO:-0500
TZNAME:EST
DTSTART:20241103T060000
END:STANDARD
BEGIN:DAYLIGHT
TZOFFSETFROM:-0500
TZOFFSETTO:-0400
TZNAME:EDT
DTSTART:20250309T070000
END:DAYLIGHT
BEGIN:STANDARD
TZOFFSETFROM:-0400
TZOFFSETTO:-0500
TZNAME:EST
DTSTART:20251102T060000
END:STANDARD
BEGIN:DAYLIGHT
TZOFFSETFROM:-0500
TZOFFSETTO:-0400
TZNAME:EDT
DTSTART:20260308T070000
END:DAYLIGHT
BEGIN:STANDARD
TZOFFSETFROM:-0400
TZOFFSETTO:-0500
TZNAME:EST
DTSTART:20261101T060000
END:STANDARD
END:VTIMEZONE
BEGIN:VEVENT
DTSTART;TZID=America/Los_Angeles:20220817T183000
DTEND;TZID=America/Los_Angeles:20220817T210000
DTSTAMP:20260419T205632
CREATED:20220712T165434Z
LAST-MODIFIED:20220712T171924Z
UID:14884-1660761000-1660770000@plutusfoundation.org
SUMMARY:Plutus Voices Portland
DESCRIPTION:In 2022\, Plutus Voices is coming to Philadelphia. We are bringing members of the financial media and the local community together in Detroit to talk about how writing\, blogging\, and podcasting can have a great impact on people’s lives. \nRegister here.
URL:https://plutusfoundation.org/event/plutus-voices-portland/
LOCATION:TaborSpace\, 5441 SE Belmont St.\, Portland\, OR\, 97215\, United States
CATEGORIES:Plutus Voices
ATTACH;FMTTYPE=image/png:https://plutusfoundation.org/wp-content/uploads/2022/07/plutus-voices-portland-2022.png
ORGANIZER;CN="Plutus Voices":MAILTO:info@plutusvoices.com
END:VEVENT
BEGIN:VEVENT
DTSTART;VALUE=DATE:20220907
DTEND;VALUE=DATE:20220911
DTSTAMP:20260419T205632
CREATED:20220404T202926Z
LAST-MODIFIED:20220404T213153Z
UID:13846-1662508800-1662854399@plutusfoundation.org
SUMMARY:#FinCon22
DESCRIPTION:Join an energetic community of personal finance influencers and brands as they come together in Orlando to connect\, collaborate\, and learn from each other.
URL:https://plutusfoundation.org/event/fincon22/
LOCATION:Orlando\, FL\, Orlando\, FL\, United States
CATEGORIES:Partner Events
ATTACH;FMTTYPE=image/jpeg:https://plutusfoundation.org/wp-content/uploads/2020/02/FinCon_where-money-and-media-meet.jpg
ORGANIZER;CN="FinCon":MAILTO:pt@finconexpo.com
END:VEVENT
BEGIN:VEVENT
DTSTART;TZID=America/New_York:20220909T181500
DTEND;TZID=America/New_York:20220909T200000
DTSTAMP:20260419T205632
CREATED:20220404T203105Z
LAST-MODIFIED:20220404T203237Z
UID:13848-1662747300-1662753600@plutusfoundation.org
SUMMARY:The 13th Annual Plutus Awards Presented by Capital Group
DESCRIPTION:
URL:https://plutusfoundation.org/event/13th-plutus-awards/
LOCATION:Orlando\, FL\, Orlando\, FL\, United States
CATEGORIES:The Plutus Awards
ATTACH;FMTTYPE=image/jpeg:https://plutusfoundation.org/wp-content/uploads/2020/07/Green-Carpet-084-e1605208921806.jpg
ORGANIZER;CN="The Plutus Foundation":MAILTO:info@plutusfoundation.org
END:VEVENT
BEGIN:VEVENT
DTSTART;VALUE=DATE:20221006
DTEND;VALUE=DATE:20221007
DTSTAMP:20260419T205632
CREATED:20220902T001256Z
LAST-MODIFIED:20220902T001256Z
UID:15901-1665014400-1665100799@plutusfoundation.org
SUMMARY:Plutus Voices New York City
DESCRIPTION:In 2022\, Plutus Voices is coming to New York City. We are bringing members of the financial media and the local community together in Detroit to talk about how writing\, blogging\, and podcasting can have a great impact on people’s lives. \nRegistation opens soon.
URL:https://plutusfoundation.org/event/plutus-voices-nyc-2022/
LOCATION:TaborSpace\, 5441 SE Belmont St.\, Portland\, OR\, 97215\, United States
CATEGORIES:Plutus Voices
ATTACH;FMTTYPE=image/png:https://plutusfoundation.org/wp-content/uploads/2022/09/save-the-date.png
ORGANIZER;CN="Plutus Voices":MAILTO:info@plutusvoices.com
END:VEVENT
BEGIN:VEVENT
DTSTART;VALUE=DATE:20221207
DTEND;VALUE=DATE:20221208
DTSTAMP:20260419T205632
CREATED:20221124T011413Z
LAST-MODIFIED:20221124T011559Z
UID:17021-1670371200-1670457599@plutusfoundation.org
SUMMARY:Plutus Voices Washington\, D.C.
DESCRIPTION:In 2022\, Plutus Voices is coming to Washington\, D.C. We are bringing members of the financial media and the local community together in Detroit to talk about how writing\, blogging\, and podcasting can have a great impact on people’s lives. \nRegistation is open now.
URL:https://plutusfoundation.org/event/plutus-voices-washington-dc/
LOCATION:Southeast Neighborhood Library\, 403 7th St. SE\, Washington\, DC\, 20003
CATEGORIES:Plutus Voices
ATTACH;FMTTYPE=image/jpeg:https://plutusfoundation.org/wp-content/uploads/2022/11/plutus-voices-dc.jpg
ORGANIZER;CN="Plutus Voices":MAILTO:info@plutusvoices.com
END:VEVENT
BEGIN:VEVENT
DTSTART;TZID=America/New_York:20230614T180000
DTEND;TZID=America/New_York:20230614T203000
DTSTAMP:20260419T205632
CREATED:20230517T035347Z
LAST-MODIFIED:20230517T035513Z
UID:17602-1686765600-1686774600@plutusfoundation.org
SUMMARY:Plutus Voices West Hartford: Money and Mental Health
DESCRIPTION:Let’s talk about money and mental health. What obstacles are getting in the way of financial competence and confidence? How can content creators better take some of these obstacles into account when sharing financial advice? We’d love to hear your stories. We’ll also hear from special guests\, Patrina Dixon and Rahkim Sabree. Register here.
URL:https://plutusfoundation.org/event/plutus-voices-west-hartford/
LOCATION:Warehouse 635\, 635 New Park Ave.\, West Hartford\, CT\, 06110\, United States
CATEGORIES:Plutus Voices
ATTACH;FMTTYPE=image/jpeg:https://plutusfoundation.org/wp-content/uploads/2023/05/west-hartford-cover.jpg
ORGANIZER;CN="Plutus Voices":MAILTO:info@plutusvoices.com
END:VEVENT
BEGIN:VEVENT
DTSTART;TZID=America/New_York:20250302T000000
DTEND;TZID=America/New_York:20250302T000000
DTSTAMP:20260419T205632
CREATED:20250228T033205Z
LAST-MODIFIED:20250302T175104Z
UID:76359-1740873600-1740873600@plutusfoundation.org
SUMMARY:Content Creator Grant Proposal Deadline - Extended
DESCRIPTION:Announcements 🟠 \nThe Plutus Foundation provides grant money and resources to foster opportunities for the financial media to create\, develop\, and administer community-based programs that enhance financial literacy\, education\, and empowerment. The Foundation accepts grant applications several times throughout the year through our Request for Proposal (RFP) process. Visit the event link to learn more about how you may qualify. \nSee More: https://app.mn.co/8/spaces/17927522/posts/80624142%3Futm_campaign=calendar_sync&utm_medium=calendar&utm_source=calendar_link
URL:https://plutusfoundation.org/event/content-creator-grant-proposal-deadline-extended-3/
END:VEVENT
END:VCALENDAR