BEGIN:VCALENDAR
VERSION:2.0
PRODID:-//The Plutus Foundation - ECPv6.15.17.1//NONSGML v1.0//EN
CALSCALE:GREGORIAN
METHOD:PUBLISH
X-WR-CALNAME:The Plutus Foundation
X-ORIGINAL-URL:https://plutusfoundation.org
X-WR-CALDESC:Events for The Plutus Foundation
REFRESH-INTERVAL;VALUE=DURATION:PT1H
X-Robots-Tag:noindex
X-PUBLISHED-TTL:PT1H
BEGIN:VTIMEZONE
TZID:America/New_York
BEGIN:DAYLIGHT
TZOFFSETFROM:-0500
TZOFFSETTO:-0400
TZNAME:EDT
DTSTART:20180311T070000
END:DAYLIGHT
BEGIN:STANDARD
TZOFFSETFROM:-0400
TZOFFSETTO:-0500
TZNAME:EST
DTSTART:20181104T060000
END:STANDARD
BEGIN:DAYLIGHT
TZOFFSETFROM:-0500
TZOFFSETTO:-0400
TZNAME:EDT
DTSTART:20190310T070000
END:DAYLIGHT
BEGIN:STANDARD
TZOFFSETFROM:-0400
TZOFFSETTO:-0500
TZNAME:EST
DTSTART:20191103T060000
END:STANDARD
BEGIN:DAYLIGHT
TZOFFSETFROM:-0500
TZOFFSETTO:-0400
TZNAME:EDT
DTSTART:20200308T070000
END:DAYLIGHT
BEGIN:STANDARD
TZOFFSETFROM:-0400
TZOFFSETTO:-0500
TZNAME:EST
DTSTART:20201101T060000
END:STANDARD
END:VTIMEZONE
BEGIN:VTIMEZONE
TZID:America/Los_Angeles
BEGIN:DAYLIGHT
TZOFFSETFROM:-0800
TZOFFSETTO:-0700
TZNAME:PDT
DTSTART:20180311T100000
END:DAYLIGHT
BEGIN:STANDARD
TZOFFSETFROM:-0700
TZOFFSETTO:-0800
TZNAME:PST
DTSTART:20181104T090000
END:STANDARD
BEGIN:DAYLIGHT
TZOFFSETFROM:-0800
TZOFFSETTO:-0700
TZNAME:PDT
DTSTART:20190310T100000
END:DAYLIGHT
BEGIN:STANDARD
TZOFFSETFROM:-0700
TZOFFSETTO:-0800
TZNAME:PST
DTSTART:20191103T090000
END:STANDARD
BEGIN:DAYLIGHT
TZOFFSETFROM:-0800
TZOFFSETTO:-0700
TZNAME:PDT
DTSTART:20200308T100000
END:DAYLIGHT
BEGIN:STANDARD
TZOFFSETFROM:-0700
TZOFFSETTO:-0800
TZNAME:PST
DTSTART:20201101T090000
END:STANDARD
END:VTIMEZONE
BEGIN:VEVENT
DTSTART;VALUE=DATE:20190215
DTEND;VALUE=DATE:20190218
DTSTAMP:20260420T201917
CREATED:20190105T045802Z
LAST-MODIFIED:20190105T045802Z
UID:2551-1550188800-1550447999@plutusfoundation.org
SUMMARY:The Lola Retreat
DESCRIPTION:A Bold Money Event for Bold Women
URL:https://plutusfoundation.org/event/the-lola-retreat/
LOCATION:Ace Hotel Downtown L.A.\, 929 S. Broadway\, Los Angeles\, CA\, United States
CATEGORIES:Community Events
ATTACH;FMTTYPE=image/jpeg:https://plutusfoundation.org/wp-content/uploads/2019/01/Lolasocialmedia-163.jpg
END:VEVENT
BEGIN:VEVENT
DTSTART;VALUE=DATE:20190125
DTEND;VALUE=DATE:20190128
DTSTAMP:20260420T201917
CREATED:20190105T041500Z
LAST-MODIFIED:20190106T112846Z
UID:2536-1548374400-1548633599@plutusfoundation.org
SUMMARY:Ski FinCon 2019
DESCRIPTION:
URL:https://plutusfoundation.org/event/ski-fincon-2019/
LOCATION:Winter Park Resort\, 85 Parsenn Rd.\, Winter Park\, CO\, United States
CATEGORIES:Partner Events
ATTACH;FMTTYPE=image/jpeg:https://plutusfoundation.org/wp-content/uploads/2019/01/46356559_10156757687569231_5559935928899731456_n1.jpg
ORGANIZER;CN="FinCon":MAILTO:pt@finconexpo.com
END:VEVENT
BEGIN:VEVENT
DTSTART;VALUE=DATE:20190111
DTEND;VALUE=DATE:20190115
DTSTAMP:20260420T201917
CREATED:20190105T035034Z
LAST-MODIFIED:20190105T035406Z
UID:2512-1547164800-1547510399@plutusfoundation.org
SUMMARY:CampFI: Southeast Week 2
DESCRIPTION:
URL:https://plutusfoundation.org/event/campfi-southeast-week-2/
LOCATION:Gainesville\, Florida\, Gainesville\, FL\, United States
CATEGORIES:Community Events
ATTACH;FMTTYPE=image/jpeg:https://plutusfoundation.org/wp-content/uploads/2019/01/https___cdn.evbuc_.com_images_49229309_214399951088_1_original1.jpg
END:VEVENT
BEGIN:VEVENT
DTSTART;TZID=America/Los_Angeles:20190107T173000
DTEND;TZID=America/Los_Angeles:20190107T183000
DTSTAMP:20260420T201917
CREATED:20190105T205940Z
LAST-MODIFIED:20190105T210842Z
UID:2579-1546882200-1546885800@plutusfoundation.org
SUMMARY:FinCon MeetUp at Affiliate Summit West
DESCRIPTION:Contact Anthony Kirlew for information.
URL:https://plutusfoundation.org/event/fincon-meetup-at-affiliate-summit-west/
LOCATION:The Paris\, 3655 Las Vegas Blvd S.\, Las Vegas\, NV\, United States
CATEGORIES:Community Events
ATTACH;FMTTYPE=image/jpeg:https://plutusfoundation.org/wp-content/uploads/2018/09/29518285433_5dc526d817_o-e1546682019382.jpg
ORGANIZER;CN="FinCon":MAILTO:pt@finconexpo.com
END:VEVENT
BEGIN:VEVENT
DTSTART;VALUE=DATE:20190104
DTEND;VALUE=DATE:20190108
DTSTAMP:20260420T201917
CREATED:20190105T034700Z
LAST-MODIFIED:20190105T040930Z
UID:2507-1546560000-1546905599@plutusfoundation.org
SUMMARY:CampFI: Southeast Week 1
DESCRIPTION:
URL:https://plutusfoundation.org/event/campfi-southeast-week-1/
LOCATION:Gainesville\, Florida\, Gainesville\, FL\, United States
CATEGORIES:Community Events
ATTACH;FMTTYPE=image/jpeg:https://plutusfoundation.org/wp-content/uploads/2019/01/https___cdn.evbuc_.com_images_49229309_214399951088_1_original1.jpg
END:VEVENT
END:VCALENDAR