BEGIN:VCALENDAR
VERSION:2.0
PRODID:-//The Plutus Foundation - ECPv6.15.17.1//NONSGML v1.0//EN
CALSCALE:GREGORIAN
METHOD:PUBLISH
X-ORIGINAL-URL:https://plutusfoundation.org
X-WR-CALDESC:Events for The Plutus Foundation
REFRESH-INTERVAL;VALUE=DURATION:PT1H
X-Robots-Tag:noindex
X-PUBLISHED-TTL:PT1H
BEGIN:VTIMEZONE
TZID:America/New_York
BEGIN:DAYLIGHT
TZOFFSETFROM:-0500
TZOFFSETTO:-0400
TZNAME:EDT
DTSTART:20180311T070000
END:DAYLIGHT
BEGIN:STANDARD
TZOFFSETFROM:-0400
TZOFFSETTO:-0500
TZNAME:EST
DTSTART:20181104T060000
END:STANDARD
BEGIN:DAYLIGHT
TZOFFSETFROM:-0500
TZOFFSETTO:-0400
TZNAME:EDT
DTSTART:20190310T070000
END:DAYLIGHT
BEGIN:STANDARD
TZOFFSETFROM:-0400
TZOFFSETTO:-0500
TZNAME:EST
DTSTART:20191103T060000
END:STANDARD
BEGIN:DAYLIGHT
TZOFFSETFROM:-0500
TZOFFSETTO:-0400
TZNAME:EDT
DTSTART:20200308T070000
END:DAYLIGHT
BEGIN:STANDARD
TZOFFSETFROM:-0400
TZOFFSETTO:-0500
TZNAME:EST
DTSTART:20201101T060000
END:STANDARD
END:VTIMEZONE
BEGIN:VEVENT
DTSTART;VALUE=DATE:20191002
DTEND;VALUE=DATE:20191003
DTSTAMP:20260421T211913
CREATED:20190715T223545Z
LAST-MODIFIED:20190715T223608Z
UID:5470-1569974400-1570060799@plutusfoundation.org
SUMMARY:Plutus Voices: Denver
DESCRIPTION:Plutus Voices – Make the Biggest Impact: Financial Independence and Women in Your Audience \nLocation will be provided upon (free) registration.
URL:https://plutusfoundation.org/event/plutus-voices-denver/
LOCATION:Denver\, CO\, Denver\, CO\, United States
CATEGORIES:Plutus Voices
ATTACH;FMTTYPE=image/jpeg:https://plutusfoundation.org/wp-content/uploads/2019/07/save-the-date-1.jpg
ORGANIZER;CN="Plutus Voices":MAILTO:info@plutusvoices.com
END:VEVENT
BEGIN:VEVENT
DTSTART;VALUE=DATE:20191003
DTEND;VALUE=DATE:20191008
DTSTAMP:20260421T211913
CREATED:20190105T045033Z
LAST-MODIFIED:20190105T045033Z
UID:2546-1570060800-1570492799@plutusfoundation.org
SUMMARY:Money on the Mountain
DESCRIPTION:Financial Retreat for Women Who Are Currently Financially Single
URL:https://plutusfoundation.org/event/money-on-the-mountain/
LOCATION:The Source Hotel\, 3330 Brighton Boulevard\, Denver\, CO\, United States
CATEGORIES:Community Events
ATTACH;FMTTYPE=image/jpeg:https://plutusfoundation.org/wp-content/uploads/2019/01/michelle-is-money-hungry.jpg
END:VEVENT
BEGIN:VEVENT
DTSTART;VALUE=DATE:20191004
DTEND;VALUE=DATE:20191008
DTSTAMP:20260421T211913
CREATED:20190105T040218Z
LAST-MODIFIED:20190105T040218Z
UID:2527-1570147200-1570492799@plutusfoundation.org
SUMMARY:CampFI: Texas
DESCRIPTION:
URL:https://plutusfoundation.org/event/campfi-texas/
LOCATION:LaGrange\, TX\, LaGrange\, TX\, United States
CATEGORIES:Community Events
ATTACH;FMTTYPE=image/jpeg:https://plutusfoundation.org/wp-content/uploads/2019/01/texas.jpg
END:VEVENT
BEGIN:VEVENT
DTSTART;VALUE=DATE:20191011
DTEND;VALUE=DATE:20191014
DTSTAMP:20260421T211913
CREATED:20190716T014259Z
LAST-MODIFIED:20190716T014259Z
UID:5474-1570752000-1571011199@plutusfoundation.org
SUMMARY:Cents Positive PNW
DESCRIPTION:
URL:https://plutusfoundation.org/event/cents-positive-pnw/
LOCATION:SpringHill Suites Downtown Seattle/South Lake Union\, 1800 Yale Ave\, Seattle\, WA\, 98101\, United States
CATEGORIES:Community Events
ATTACH;FMTTYPE=image/jpeg:https://plutusfoundation.org/wp-content/uploads/2019/07/nightline_centspositive41.jpg
END:VEVENT
BEGIN:VEVENT
DTSTART;VALUE=DATE:20191011
DTEND;VALUE=DATE:20191015
DTSTAMP:20260421T211913
CREATED:20190105T040448Z
LAST-MODIFIED:20190105T040448Z
UID:2531-1570752000-1571097599@plutusfoundation.org
SUMMARY:CampFI: Southwest
DESCRIPTION:
URL:https://plutusfoundation.org/event/campfi-southwest/
LOCATION:Joshua Tree\, CA\, Joshua Tree\, CA\, United States
CATEGORIES:Community Events
ATTACH;FMTTYPE=image/png:https://plutusfoundation.org/wp-content/uploads/2019/01/https___cdn.evbuc_.com_images_48554007_214399951088_1_original1.png
END:VEVENT
BEGIN:VEVENT
DTSTART;VALUE=DATE:20191018
DTEND;VALUE=DATE:20191021
DTSTAMP:20260421T211913
CREATED:20190716T015033Z
LAST-MODIFIED:20190716T015837Z
UID:5479-1571356800-1571615999@plutusfoundation.org
SUMMARY:Cents Positive Midwest
DESCRIPTION:
URL:https://plutusfoundation.org/event/cents-positive-midwest/
LOCATION:SpringHill Suites Chicago O’Hare\, 8101 W Higgins Rd\, Chicago\, IL\, 60631\, United States
CATEGORIES:Community Events
ATTACH;FMTTYPE=image/jpeg:https://plutusfoundation.org/wp-content/uploads/2019/07/nightline_centspositive41.jpg
END:VEVENT
END:VCALENDAR