BEGIN:VCALENDAR
VERSION:2.0
PRODID:-//The Plutus Foundation - ECPv6.15.17.1//NONSGML v1.0//EN
CALSCALE:GREGORIAN
METHOD:PUBLISH
X-WR-CALNAME:The Plutus Foundation
X-ORIGINAL-URL:https://plutusfoundation.org
X-WR-CALDESC:Events for The Plutus Foundation
REFRESH-INTERVAL;VALUE=DURATION:PT1H
X-Robots-Tag:noindex
X-PUBLISHED-TTL:PT1H
BEGIN:VTIMEZONE
TZID:America/New_York
BEGIN:DAYLIGHT
TZOFFSETFROM:-0500
TZOFFSETTO:-0400
TZNAME:EDT
DTSTART:20190310T070000
END:DAYLIGHT
BEGIN:STANDARD
TZOFFSETFROM:-0400
TZOFFSETTO:-0500
TZNAME:EST
DTSTART:20191103T060000
END:STANDARD
BEGIN:DAYLIGHT
TZOFFSETFROM:-0500
TZOFFSETTO:-0400
TZNAME:EDT
DTSTART:20200308T070000
END:DAYLIGHT
BEGIN:STANDARD
TZOFFSETFROM:-0400
TZOFFSETTO:-0500
TZNAME:EST
DTSTART:20201101T060000
END:STANDARD
BEGIN:DAYLIGHT
TZOFFSETFROM:-0500
TZOFFSETTO:-0400
TZNAME:EDT
DTSTART:20210314T070000
END:DAYLIGHT
BEGIN:STANDARD
TZOFFSETFROM:-0400
TZOFFSETTO:-0500
TZNAME:EST
DTSTART:20211107T060000
END:STANDARD
END:VTIMEZONE
BEGIN:VEVENT
DTSTART;VALUE=DATE:20200402
DTEND;VALUE=DATE:20200403
DTSTAMP:20260421T124610
CREATED:20200228T190013Z
LAST-MODIFIED:20201119T171341Z
UID:6819-1585785600-1585871999@plutusfoundation.org
SUMMARY:Bankroll Summit
DESCRIPTION:Being broke doesn’t have to be part of the college experience. The Plutus Foundation supports Bankroll Summit.
URL:https://plutusfoundation.org/event/bankroll-summit/
CATEGORIES:Partner Events
ATTACH;FMTTYPE=image/jpeg:https://plutusfoundation.org/wp-content/uploads/2020/02/04.03.19-221.jpg
END:VEVENT
BEGIN:VEVENT
DTSTART;VALUE=DATE:20200404
DTEND;VALUE=DATE:20200405
DTSTAMP:20260421T124610
CREATED:20200228T051735Z
LAST-MODIFIED:20200228T051735Z
UID:6653-1585958400-1586044799@plutusfoundation.org
SUMMARY:Self Made Summit
DESCRIPTION:Women are starting businesses at rates faster than men. \nWhy? Because traditional work places don’t work for us\, and we have the passion to build something that does. \nWhat most women do not have is a place to learn concrete\, practical business advice that helps them build profitable\, flexible\, and mission driven businesses. So that’s what we’re going to do. \nThe Self Made Summit is a day long conference that will focus on the PRACTICAL DETAILS of running a business. Come ready to dig into your idea or current business and leave with a plan to grow your revenue\, your audience\, and your dream.
URL:https://plutusfoundation.org/event/self-made-summit/
LOCATION:Soma Vida\, 2324 East Cesar Chavez Street\, Austin\, TX\, 78702\, United States
CATEGORIES:Partner Events
ATTACH;FMTTYPE=image/jpeg:https://plutusfoundation.org/wp-content/uploads/2020/02/How-to-Not-Die-Broke-2019-11.jpg
END:VEVENT
END:VCALENDAR