BEGIN:VCALENDAR
VERSION:2.0
PRODID:-//The Plutus Foundation - ECPv6.15.17.1//NONSGML v1.0//EN
CALSCALE:GREGORIAN
METHOD:PUBLISH
X-ORIGINAL-URL:https://plutusfoundation.org
X-WR-CALDESC:Events for The Plutus Foundation
REFRESH-INTERVAL;VALUE=DURATION:PT1H
X-Robots-Tag:noindex
X-PUBLISHED-TTL:PT1H
BEGIN:VTIMEZONE
TZID:America/New_York
BEGIN:DAYLIGHT
TZOFFSETFROM:-0500
TZOFFSETTO:-0400
TZNAME:EDT
DTSTART:20200308T070000
END:DAYLIGHT
BEGIN:STANDARD
TZOFFSETFROM:-0400
TZOFFSETTO:-0500
TZNAME:EST
DTSTART:20201101T060000
END:STANDARD
BEGIN:DAYLIGHT
TZOFFSETFROM:-0500
TZOFFSETTO:-0400
TZNAME:EDT
DTSTART:20210314T070000
END:DAYLIGHT
BEGIN:STANDARD
TZOFFSETFROM:-0400
TZOFFSETTO:-0500
TZNAME:EST
DTSTART:20211107T060000
END:STANDARD
BEGIN:DAYLIGHT
TZOFFSETFROM:-0500
TZOFFSETTO:-0400
TZNAME:EDT
DTSTART:20220313T070000
END:DAYLIGHT
BEGIN:STANDARD
TZOFFSETFROM:-0400
TZOFFSETTO:-0500
TZNAME:EST
DTSTART:20221106T060000
END:STANDARD
END:VTIMEZONE
BEGIN:VEVENT
DTSTART;TZID=America/New_York:20210224T203000
DTEND;TZID=America/New_York:20210224T213000
DTSTAMP:20260419T134331
CREATED:20210217T004603Z
LAST-MODIFIED:20210225T001258Z
UID:10568-1614198600-1614202200@plutusfoundation.org
SUMMARY:The Black Tax: The Cost of Being Black in America
DESCRIPTION:Shawn Rochester\, the author of The Black Tax\, joins Harlan Landes to explore how the Black Tax creates a massive financial burden on Black American households that dramatically reduces their ability to leave a substantial legacy for future generations. \nThe discussion will be live on Facebook on Wednesday\, February 24\, at 8:30pm ET. You may also watch live on YouTube. \n\nhttps://www.facebook.com/plutusfoundation/videos/865689224228539\nhttps://youtu.be/wsB9xaVIW1g
URL:https://plutusfoundation.org/event/the-black-tax-live/
LOCATION:Virtual Event\, DC
CATEGORIES:Plutus Foundation Live
ATTACH;FMTTYPE=image/jpeg:https://plutusfoundation.org/wp-content/uploads/2021/02/black-tax.jpg
ORGANIZER;CN="The Plutus Foundation":MAILTO:info@plutusfoundation.org
END:VEVENT
END:VCALENDAR