BEGIN:VCALENDAR
VERSION:2.0
PRODID:-//The Plutus Foundation - ECPv6.15.17.1//NONSGML v1.0//EN
CALSCALE:GREGORIAN
METHOD:PUBLISH
X-ORIGINAL-URL:https://plutusfoundation.org
X-WR-CALDESC:Events for The Plutus Foundation
REFRESH-INTERVAL;VALUE=DURATION:PT1H
X-Robots-Tag:noindex
X-PUBLISHED-TTL:PT1H
BEGIN:VTIMEZONE
TZID:America/Detroit
BEGIN:DAYLIGHT
TZOFFSETFROM:-0500
TZOFFSETTO:-0400
TZNAME:EDT
DTSTART:20210314T070000
END:DAYLIGHT
BEGIN:STANDARD
TZOFFSETFROM:-0400
TZOFFSETTO:-0500
TZNAME:EST
DTSTART:20211107T060000
END:STANDARD
BEGIN:DAYLIGHT
TZOFFSETFROM:-0500
TZOFFSETTO:-0400
TZNAME:EDT
DTSTART:20220313T070000
END:DAYLIGHT
BEGIN:STANDARD
TZOFFSETFROM:-0400
TZOFFSETTO:-0500
TZNAME:EST
DTSTART:20221106T060000
END:STANDARD
BEGIN:DAYLIGHT
TZOFFSETFROM:-0500
TZOFFSETTO:-0400
TZNAME:EDT
DTSTART:20230312T070000
END:DAYLIGHT
BEGIN:STANDARD
TZOFFSETFROM:-0400
TZOFFSETTO:-0500
TZNAME:EST
DTSTART:20231105T060000
END:STANDARD
END:VTIMEZONE
BEGIN:VEVENT
DTSTART;TZID=America/Detroit:20220330T183000
DTEND;TZID=America/Detroit:20220330T213000
DTSTAMP:20260420T000041
CREATED:20200228T045628Z
LAST-MODIFIED:20211021T161632Z
UID:6637-1648665000-1648675800@plutusfoundation.org
SUMMARY:Plutus Voices Detroit
DESCRIPTION:In 2022\, Plutus Voices is coming to Detroit. We are bringing members of the financial media and the local community together in Detroit to talk about how writing\, blogging\, and podcasting can have a great impact on people’s lives.
URL:https://plutusfoundation.org/event/plutus-voices-detroit/
LOCATION:The Detroit Writing Room\, 1514 Washington Blvd\, Suite 203\, Detroit\, MI\, 48226\, United States
CATEGORIES:Plutus Voices
ATTACH;FMTTYPE=image/jpeg:https://plutusfoundation.org/wp-content/uploads/2021/10/plutus-voices-detroit-scaled.jpg
ORGANIZER;CN="Plutus Voices":MAILTO:info@plutusvoices.com
END:VEVENT
END:VCALENDAR